{
 "currentVersion": 11.3,
 "serviceDescription": "Dataset with Identifying Attributes for Imagery Cache",
 "name": "DEV_Mosaic_Dataset_Cache_Catalog",
 "description": "",
 "extent": {
  "xmin": 1.5693904663874766E7,
  "ymin": -4513100.192682912,
  "xmax": 1.773207637494508E7,
  "ymax": -3263430.620665918,
  "spatialReference": {}
 },
 "initialExtent": {
  "xmin": 1.5693904663874766E7,
  "ymin": -4513100.192682912,
  "xmax": 1.773207637494508E7,
  "ymax": -3263430.620665918,
  "spatialReference": {}
 },
 "fullExtent": {
  "xmin": 1.5693904663874766E7,
  "ymin": -4513100.192682912,
  "xmax": 1.773207637494508E7,
  "ymax": -3263430.620665918,
  "spatialReference": {}
 },
 "sortableFields": "",
 "bandCount": 3,
 "pixelType": "U8",
 "minValues": [],
 "maxValues": [],
 "meanValues": [],
 "stdvValues": [],
 "hasMultidimensions": false,
 "pixelSizeX": 0.03732276769999996,
 "pixelSizeY": 0.037322767699999995,
 "meanPixelSize": 0.03732276769999998,
 "datasetFormat": "AMD",
 "uncompressedSize": 5485415585559360,
 "blockWidth": 2048,
 "blockHeight": 256,
 "compressionType": "None",
 "bandNames": [
  "Band_1",
  "Band_2",
  "Band_3"
 ],
 "allowCopy": false,
 "allowAnalysis": true,
 "itemAccess": false,
 "inspectionCapabilities": "",
 "minPixelSize": 0,
 "maxPixelSize": 0,
 "copyrightText": "Spatial Services",
 "serviceDataType": "esriImageServiceDataTypeRGB",
 "serviceSourceType": "esriImageServiceSourceTypeMosaicDataset",
 "objectIdField": "OBJECTID",
 "fields": [
  {
   "name": "OBJECTID",
   "type": "esriFieldTypeOID",
   "alias": "OBJECTID",
   "domain": null
  },
  {
   "name": "Shape",
   "type": "esriFieldTypeGeometry",
   "alias": "Shape",
   "domain": null
  },
  {
   "name": "Name",
   "type": "esriFieldTypeString",
   "alias": "Name",
   "domain": null,
   "length": 200
  },
  {
   "name": "MinPS",
   "type": "esriFieldTypeDouble",
   "alias": "MinPS",
   "domain": null
  },
  {
   "name": "MaxPS",
   "type": "esriFieldTypeDouble",
   "alias": "MaxPS",
   "domain": null
  },
  {
   "name": "LowPS",
   "type": "esriFieldTypeDouble",
   "alias": "LowPS",
   "domain": null
  },
  {
   "name": "HighPS",
   "type": "esriFieldTypeDouble",
   "alias": "HighPS",
   "domain": null
  },
  {
   "name": "Category",
   "type": "esriFieldTypeInteger",
   "alias": "Category",
   "domain": {
    "type": "codedValue",
    "name": "MosaicCatalogItemCategoryDomain",
    "description": "Catalog item categories.",
    "codedValues": [
     {
      "name": "Unknown",
      "code": 0
     },
     {
      "name": "Primary",
      "code": 1
     },
     {
      "name": "Overview",
      "code": 2
     },
     {
      "name": "Unprocessed Overview",
      "code": 3
     },
     {
      "name": "Partial Overview",
      "code": 4
     },
     {
      "name": "Inactive",
      "code": 5
     },
     {
      "name": "Uploaded",
      "code": 253
     },
     {
      "name": "Incomplete",
      "code": 254
     },
     {
      "name": "Custom",
      "code": 255
     }
    ],
    "mergePolicy": "esriMPTDefaultValue",
    "splitPolicy": "esriSPTDefaultValue"
   }
  },
  {
   "name": "Tag",
   "type": "esriFieldTypeString",
   "alias": "Tag",
   "domain": null,
   "length": 100
  },
  {
   "name": "GroupName",
   "type": "esriFieldTypeString",
   "alias": "GroupName",
   "domain": null,
   "length": 100
  },
  {
   "name": "ProductName",
   "type": "esriFieldTypeString",
   "alias": "ProductName",
   "domain": null,
   "length": 100
  },
  {
   "name": "CenterX",
   "type": "esriFieldTypeDouble",
   "alias": "CenterX",
   "domain": null
  },
  {
   "name": "CenterY",
   "type": "esriFieldTypeDouble",
   "alias": "CenterY",
   "domain": null
  },
  {
   "name": "ZOrder",
   "type": "esriFieldTypeInteger",
   "alias": "ZOrder",
   "domain": null
  },
  {
   "name": "BestByResDate",
   "type": "esriFieldTypeInteger",
   "alias": "BestByResDate",
   "domain": null
  },
  {
   "name": "max_LoD",
   "type": "esriFieldTypeInteger",
   "alias": "max_LoD",
   "domain": null
  },
  {
   "name": "total_score",
   "type": "esriFieldTypeInteger",
   "alias": "total_score",
   "domain": null
  },
  {
   "name": "Dataset_ID",
   "type": "esriFieldTypeString",
   "alias": "Dataset_ID",
   "domain": null,
   "length": 50
  },
  {
   "name": "SOrder",
   "type": "esriFieldTypeInteger",
   "alias": "SOrder",
   "domain": null
  },
  {
   "name": "StereoID",
   "type": "esriFieldTypeString",
   "alias": "StereoID",
   "domain": null,
   "length": 255
  },
  {
   "name": "BlockName",
   "type": "esriFieldTypeString",
   "alias": "BlockName",
   "domain": null,
   "length": 255
  },
  {
   "name": "BlockType",
   "type": "esriFieldTypeString",
   "alias": "BlockType",
   "domain": null,
   "length": 255
  },
  {
   "name": "BlockStartDate",
   "type": "esriFieldTypeDate",
   "alias": "BlockStartDate",
   "domain": null,
   "length": 8
  },
  {
   "name": "BlockEndDate",
   "type": "esriFieldTypeDate",
   "alias": "BlockEndDate",
   "domain": null,
   "length": 8
  },
  {
   "name": "BlockID",
   "type": "esriFieldTypeString",
   "alias": "BlockID",
   "domain": null,
   "length": 255
  },
  {
   "name": "BandTypes",
   "type": "esriFieldTypeString",
   "alias": "BandTypes",
   "domain": null,
   "length": 255
  },
  {
   "name": "MosaicStartDate",
   "type": "esriFieldTypeDate",
   "alias": "MosaicStartDate",
   "domain": null,
   "length": 8
  },
  {
   "name": "MosaicEndDate",
   "type": "esriFieldTypeDate",
   "alias": "MosaicEndDate",
   "domain": null,
   "length": 8
  },
  {
   "name": "band_order",
   "type": "esriFieldTypeString",
   "alias": "band_order",
   "domain": null,
   "length": 255
  },
  {
   "name": "file_size_mb",
   "type": "esriFieldTypeDouble",
   "alias": "file_size_mb",
   "domain": null
  },
  {
   "name": "name_count",
   "type": "esriFieldTypeInteger",
   "alias": "name_count",
   "domain": null
  },
  {
   "name": "Copyright",
   "type": "esriFieldTypeString",
   "alias": "Copyright",
   "domain": null,
   "length": 255
  },
  {
   "name": "Authorisation",
   "type": "esriFieldTypeString",
   "alias": "Authorisation",
   "domain": null,
   "length": 255
  },
  {
   "name": "ZOrder_19",
   "type": "esriFieldTypeInteger",
   "alias": "ZOrder_19",
   "domain": null
  },
  {
   "name": "ZOrder_20",
   "type": "esriFieldTypeInteger",
   "alias": "ZOrder_20",
   "domain": null
  },
  {
   "name": "ZOrder_21",
   "type": "esriFieldTypeInteger",
   "alias": "ZOrder_21",
   "domain": null
  },
  {
   "name": "ZOrder_22",
   "type": "esriFieldTypeInteger",
   "alias": "ZOrder_22",
   "domain": null
  },
  {
   "name": "Shape_Length",
   "type": "esriFieldTypeDouble",
   "alias": "Shape_Length",
   "domain": null
  },
  {
   "name": "Shape_Area",
   "type": "esriFieldTypeDouble",
   "alias": "Shape_Area",
   "domain": null
  }
 ],
 "capabilities": "Image,Metadata,Catalog,Mensuration",
 "defaultMosaicMethod": "Northwest",
 "allowedMosaicMethods": "NorthWest,Center,LockRaster,ByAttribute,Nadir,Viewpoint,Seamline,None",
 "sortField": "",
 "sortValue": null,
 "sortAscending": true,
 "mosaicOperator": "First",
 "maxDownloadSizeLimit": 20480,
 "defaultCompressionQuality": 75,
 "defaultResamplingMethod": "Bilinear",
 "maxImageHeight": 4100,
 "maxImageWidth": 15000,
 "maxRecordCount": 1,
 "maxDownloadImageCount": 1,
 "maxMosaicImageCount": 2000,
 "allowRasterFunction": true,
 "rasterFunctionInfos": [
  {
   "name": "None",
   "description": "Make a Raster or Raster Dataset into a Function Raster Dataset.",
   "help": ""
  }
 ],
 "rasterTypeInfos": [
  {
   "name": "Raster Dataset",
   "description": "Supports all ArcGIS Raster Datasets",
   "help": ""
  }
 ],
 "mensurationCapabilities": "Basic",
 "hasHistograms": false,
 "hasColormap": false,
 "hasRasterAttributeTable": false,
 "minScale": 0,
 "maxScale": 0,
 "exportTilesAllowed": false,
 "supportsStatistics": true,
 "supportsAdvancedQueries": true,
 "editFieldsInfo": null,
 "ownershipBasedAccessControlForRasters": null,
 "allowComputeTiePoints": false,
 "useStandardizedQueries": true,
 "advancedQueryCapabilities": {
  "useStandardizedQueries": true,
  "supportsStatistics": true,
  "supportsOrderBy": true,
  "supportsDistinct": true,
  "supportsPagination": true
 },
 "spatialReference": {}
}
