{
 "exportTilesAllowed": false,
 "resampling": true,
 "serviceDescription": "",
 "units": "esriMeters",
 "fullExtent": {
  "spatialReference": {
   "wkid": 3857
  },
  "ymax": -3960179.132100001,
  "xmax": 1.6850058887144964E7,
  "ymin": -4006566.1701543364,
  "xmin": 1.6802521759800002E7
 },
 "version": 1.0,
 "minScale": 1199762.0564272436,
 "maxScale": 1171.64263322973,
 "minLOD": 0,
 "tileImageInfo": {
  "bandCount": 3,
  "compressionQuality": 75,
  "format": "MIXED"
 },
 "spatialReference": {
  "wkid": 3857
 },
 "initialExtent": {
  "spatialReference": {
   "wkid": 3857
  },
  "ymax": -3960179.132100001,
  "xmax": 1.6850058887144964E7,
  "ymin": -4006566.1701543364,
  "xmin": 1.6802521759800002E7
 },
 "tileBundlesPath": "./tile",
 "maxLOD": 10,
 "storageInfo": {
  "storageFormat": "esriMapCacheStorageModeCompactV2",
  "packetSize": 128
 },
 "name": "EmergencyImageryCache",
 "tileInfo": {
  "dpi": 96,
  "cols": 256,
  "lods": [
   {
    "resolution": 317.4370440976447,
    "scale": 1199762.0564272436,
    "level": 0
   },
   {
    "resolution": 158.71852204882234,
    "scale": 599881.0282136218,
    "level": 1
   },
   {
    "resolution": 79.35926102441117,
    "scale": 299940.5141068109,
    "level": 2
   },
   {
    "resolution": 39.679630512205584,
    "scale": 149970.25705340545,
    "level": 3
   },
   {
    "resolution": 19.839815256102792,
    "scale": 74985.12852670273,
    "level": 4
   },
   {
    "resolution": 9.919907628051396,
    "scale": 37492.56426335136,
    "level": 5
   },
   {
    "resolution": 4.959953814025698,
    "scale": 18746.28213167568,
    "level": 6
   },
   {
    "resolution": 2.479976907012849,
    "scale": 9373.14106583784,
    "level": 7
   },
   {
    "resolution": 1.2399884535064245,
    "scale": 4686.57053291892,
    "level": 8
   },
   {
    "resolution": 0.6199942267532123,
    "scale": 2343.28526645946,
    "level": 9
   },
   {
    "resolution": 0.3099971133766061,
    "scale": 1171.64263322973,
    "level": 10
   }
  ],
  "rows": 256,
  "origin": {
   "y": 3.024097195838615E7,
   "x": -2.0037508342789244E7
  },
  "spatialReference": {
   "wkid": 3857
  },
  "format": "MIXED",
  "compressionQuality": 75,
  "bandCount": 3,
  "lercError": 0,
  "storageFormat": "esriMapCacheStorageModeCompactV2",
  "packetSize": 128
 },
 "currentVersion": 11.3,
 "mapName": "EmergencyImageryCache",
 "singleFusedMapCache": true,
 "type": "MapServer",
 "supportedExtensions": "",
 "capabilities": "TilesOnly,Tilemap"
}
