{
 "version": 1.0,
 "tileBundlesPath": "./tile",
 "tileInfo": {
  "spatialReference": {
   "wkid": 102100,
   "latestWkid": 3857
  },
  "origin": {
   "x": -2.0037508342787E7,
   "y": 2.0037508342787E7
  },
  "rows": 256,
  "cols": 256,
  "dpi": 96,
  "lods": [
   {
    "level": 0,
    "resolution": 156543.03392800014,
    "scale": 5.91657527591555E8
   },
   {
    "level": 1,
    "resolution": 78271.51696399994,
    "scale": 2.95828763795777E8
   },
   {
    "level": 2,
    "resolution": 39135.75848200009,
    "scale": 1.47914381897889E8
   },
   {
    "level": 3,
    "resolution": 19567.87924099992,
    "scale": 7.3957190948944E7
   },
   {
    "level": 4,
    "resolution": 9783.93962049996,
    "scale": 3.6978595474472E7
   },
   {
    "level": 5,
    "resolution": 4891.96981024998,
    "scale": 1.8489297737236E7
   },
   {
    "level": 6,
    "resolution": 2445.98490512499,
    "scale": 9244648.868618
   },
   {
    "level": 7,
    "resolution": 1222.992452562495,
    "scale": 4622324.434309
   },
   {
    "level": 8,
    "resolution": 611.4962262813797,
    "scale": 2311162.217155
   },
   {
    "level": 9,
    "resolution": 305.74811314055756,
    "scale": 1155581.108577
   },
   {
    "level": 10,
    "resolution": 152.87405657041106,
    "scale": 577790.554289
   },
   {
    "level": 11,
    "resolution": 76.43702828507324,
    "scale": 288895.277144
   },
   {
    "level": 12,
    "resolution": 38.21851414253662,
    "scale": 144447.638572
   },
   {
    "level": 13,
    "resolution": 19.10925707126831,
    "scale": 72223.819286
   },
   {
    "level": 14,
    "resolution": 9.554628535634155,
    "scale": 36111.909643
   },
   {
    "level": 15,
    "resolution": 4.77731426794937,
    "scale": 18055.954822
   },
   {
    "level": 16,
    "resolution": 2.388657133974685,
    "scale": 9027.977411
   },
   {
    "level": 17,
    "resolution": 1.1943285668550503,
    "scale": 4513.988705
   },
   {
    "level": 18,
    "resolution": 0.5971642835598172,
    "scale": 2256.994353
   },
   {
    "level": 19,
    "resolution": 0.29858214164761665,
    "scale": 1128.497176
   },
   {
    "level": 20,
    "resolution": 0.14929107082380833,
    "scale": 564.248588
   },
   {
    "level": 21,
    "resolution": 0.07464553541190416,
    "scale": 282.124294
   },
   {
    "level": 22,
    "resolution": 0.0373227677,
    "scale": 141.062147
   }
  ],
  "format": "MIXED",
  "compressionQuality": 75,
  "bandCount": 1,
  "lercError": 0,
  "storageFormat": "esriMapCacheStorageModeCompactV2",
  "packetSize": 128
 },
 "storageInfo": {
  "packetSize": 128,
  "storageFormat": "esriMapCacheStorageModeCompactV2"
 },
 "tileImageInfo": {
  "format": "MIXED",
  "compressionQuality": 75,
  "bandCount": 1,
  "lercError": 0
 },
 "name": "NSWWebImagery",
 "minScale": 5.91657527591555E8,
 "maxScale": 70.5310735,
 "minLOD": 0,
 "maxLOD": 22,
 "spatialReference": {
  "wkid": 102100,
  "latestWkid": 3857
 },
 "units": "esriMeters",
 "serviceDescription": "Compilation mosaic of aerial and satellite imagery processed for webmap imagery viewing.\n\nData has been captured from multiple sources; Internal capture by NSW DCS Spatial Services - Environmental Spatial Porgrams, Private capture from various private providers and satellite data provided by Remote Sensing and Landscape Science Branch (DCCEEW). In the case of viewing the 2025 Satellite imagery provided by DCCEEW, This data is the intellectual property of SPOT Image (Geoimage GeoHD) © Airbus DS 2025. \n\nImagery data has been arranged in a selective process to serve the most recent imagery at the best possible resolution. \n\nData has been captured from multiple sources; Internal capture by NSW DCS Spatial Services - Environmental Spatial Porgrams, Private capture from various private providers and satellite data provided by Remote Sensing and Landscape Science Branch (DCCEEW). In the case of viewing the 2025 Satellite imagery provided by DCCEEW, This data is the intellectual property of SPOT Image (Geoimage GeoHD) © Airbus DS 2025. ",
 "Copyright Text": "© State of New South Wales (Department of Customer Service) 2025. All rights reserved. DCCEEW Satellite data provided by SPOT Image (Geoimage GeoHD) © Airbus DS 2025.",
 "resampling": true,
 "cacheControlMaxAge": "43200",
 "exportTilesAllowed": false,
 "initialExtent": {
  "xmin": 1.5680417383907419E7,
  "ymin": -4514305.200380834,
  "xmax": 1.7109058883636627E7,
  "ymax": -3259700.0650851764,
  "spatialReference": {
   "wkid": 102100,
   "latestWkid": 3857
  }
 },
 "fullExtent": {
  "xmin": 1.5680417383907419E7,
  "ymin": -4514305.200380834,
  "xmax": 1.77373733766E7,
  "ymax": -3259700.0650851764,
  "spatialReference": {
   "wkid": 102100,
   "latestWkid": 3857
  }
 },
 "currentVersion": 11.3,
 "mapName": "NSWWebImagery",
 "singleFusedMapCache": true,
 "type": "MapServer",
 "supportedExtensions": "",
 "capabilities": "TilesOnly,Tilemap",
 "serviceItemId": ""
}
