{
 "currentVersion": 10.51,
 "serviceDescription": "Progressively from scales larger than 1:150,000 higher resolution imagery overlays lower resolution imagery and most recent imagery overlays older imagery within each resolution.\nThis service includes external imagery sourced from © AAM 2011,2012; © Jacobs Group Ausimage 2002,2006,2009,2014; © LANDSAT 2014\nMetadata_link http://sdi.nsw.gov.au/catalog/search/resource/details.page?uuid=%7BA9550CB1-5908-4A47-936F-64AE50405DF7%7D",
 "mapName": "Layers",
 "description": "",
 "copyrightText": "© Department of Customer Service 2020",
 "supportsDynamicLayers": false,
 "layers": [
  {
   "id": 0,
   "name": "Footprint",
   "parentLayerId": -1,
   "defaultVisibility": true,
   "subLayerIds": null,
   "minScale": 0,
   "maxScale": 0
  }
 ],
 "tables": [],
 "spatialReference": {
  "wkid": 102100,
  "latestWkid": 3857
 },
 "singleFusedMapCache": true,
 "tileInfo": {
  "rows": 256,
  "cols": 256,
  "dpi": 96,
  "format": "MIXED",
  "compressionQuality": 75,
  "origin": {
   "x": -20037508.342787,
   "y": 20037508.342787
  },
  "spatialReference": {
   "wkid": 102100,
   "latestWkid": 3857
  },
  "lods": [
   {
    "level": 0,
    "resolution": 156543.033928,
    "scale": 591657527.591555
   },
   {
    "level": 1,
    "resolution": 78271.5169639999,
    "scale": 295828763.795777
   },
   {
    "level": 2,
    "resolution": 39135.7584820001,
    "scale": 147914381.897889
   },
   {
    "level": 3,
    "resolution": 19567.8792409999,
    "scale": 73957190.948944
   },
   {
    "level": 4,
    "resolution": 9783.93962049996,
    "scale": 36978595.474472
   },
   {
    "level": 5,
    "resolution": 4891.96981024998,
    "scale": 18489297.737236
   },
   {
    "level": 6,
    "resolution": 2445.98490512499,
    "scale": 9244648.868618
   },
   {
    "level": 7,
    "resolution": 1222.99245256249,
    "scale": 4622324.434309
   },
   {
    "level": 8,
    "resolution": 611.49622628138,
    "scale": 2311162.217155
   },
   {
    "level": 9,
    "resolution": 305.748113140558,
    "scale": 1155581.108577
   },
   {
    "level": 10,
    "resolution": 152.874056570411,
    "scale": 577790.554289
   },
   {
    "level": 11,
    "resolution": 76.4370282850732,
    "scale": 288895.277144
   },
   {
    "level": 12,
    "resolution": 38.2185141425366,
    "scale": 144447.638572
   },
   {
    "level": 13,
    "resolution": 19.1092570712683,
    "scale": 72223.819286
   },
   {
    "level": 14,
    "resolution": 9.55462853563415,
    "scale": 36111.909643
   },
   {
    "level": 15,
    "resolution": 4.77731426794937,
    "scale": 18055.954822
   },
   {
    "level": 16,
    "resolution": 2.38865713397468,
    "scale": 9027.977411
   },
   {
    "level": 17,
    "resolution": 1.19432856685505,
    "scale": 4513.988705
   },
   {
    "level": 18,
    "resolution": 0.597164283559817,
    "scale": 2256.994353
   },
   {
    "level": 19,
    "resolution": 0.298582141647617,
    "scale": 1128.497176
   },
   {
    "level": 20,
    "resolution": 0.14929107082380833,
    "scale": 564.248588
   },
   {
    "level": 21,
    "resolution": 0.07464553541190416,
    "scale": 282.124294
   },
   {
    "level": 22,
    "resolution": 0.03732276770595208,
    "scale": 141.062147
   },
   {
    "level": 23,
    "resolution": 0.01866138385297604,
    "scale": 70.5310735
   }
  ]
 },
 "initialExtent": {
  "xmin": 15225265.413512615,
  "ymin": -4034478.147439221,
  "xmax": 17916570.88198739,
  "ymax": -2873320.466889223,
  "spatialReference": {
   "cs": "pcs",
   "wkid": 102100
  }
 },
 "fullExtent": {
  "xmin": 15409760.467200004,
  "ymin": -4633381.235199999,
  "xmax": 17732075.8283,
  "ymax": -3058843.9010999985,
  "spatialReference": {
   "cs": "pcs",
   "wkid": 102100
  }
 },
 "minScale": 18489297.737236,
 "maxScale": 70.5310735,
 "units": "esriMeters",
 "supportedImageFormatTypes": "PNG32,PNG24,PNG,JPG,DIB,TIFF,EMF,PS,PDF,GIF,SVG,SVGZ,BMP",
 "documentInfo": {
  "Title": "",
  "Author": "",
  "Comments": "Progressively from scales larger than 1:150,000 higher resolution imagery overlays lower resolution imagery and most recent imagery overlays older imagery within each resolution.\nThis service includes external imagery sourced from © AAM 2011,2012; © Jacobs Group Ausimage 2002,2006,2009,2014; © LANDSAT 2014\nMetadata_link http://sdi.nsw.gov.au/catalog/search/resource/details.page?uuid=%7BA9550CB1-5908-4A47-936F-64AE50405DF7%7D",
  "Subject": "DFSI Spatial Services web mercator map service document.",
  "Category": "",
  "AntialiasingMode": "None",
  "TextAntialiasingMode": "Force",
  "Keywords": "Spatial Services Imagery"
 },
 "capabilities": "Map,Query,Data",
 "supportedQueryFormats": "JSON, AMF, geoJSON",
 "exportTilesAllowed": false,
 "supportsDatumTransformation": true,
 "maxRecordCount": 1000,
 "maxImageHeight": 4096,
 "maxImageWidth": 4096,
 "supportedExtensions": "WMSServer",
 "resampling": true
}
