View In:
ArcGIS JavaScript
ArcGIS Online Map Viewer
ArcGIS Earth
Service Description: null
Name: KT_2025/KT2025_GCCC1mDTMFeb2024hillswebmercatorCRF_public
Description:
Single Fused Map Cache: false
Extent:
XMin: 1.705176757366989E7
YMin: -3286117.526996326
XMax: 1.706870057366989E7
YMax: -3268504.526996326
Spatial Reference: 102100
(3857)
Initial Extent:
XMin: 1.705176757366989E7
YMin: -3286117.526996326
XMax: 1.706870057366989E7
YMax: -3268504.526996326
Spatial Reference: 102100
(3857)
Full Extent:
XMin: 1.705176757366989E7
YMin: -3286117.526996326
XMax: 1.706870057366989E7
YMax: -3268504.526996326
Spatial Reference: 102100
(3857)
Pixel Size X: 1.0
Pixel Size Y: 1.0
Band Count: 1
Pixel Type: F32
RasterFunction Infos: {"rasterFunctionInfos": [{
"name": "None",
"description": "",
"help": ""
}]}
Mensuration Capabilities: Basic
Inspection Capabilities:
Has Histograms: true
Has Colormap: false
Has Multi Dimensions : false
Rendering Rule:
Min Scale: 0
Max Scale: 0
Copyright Text: null
Service Data Type: esriImageServiceDataTypeGeneric
Min Values: 83.36000061035156
Max Values: 1174.1300048828125
Mean Values: 452.40710581116804
Standard Deviation Values: 218.1088413217293
Object ID Field:
Fields:
None
Default Mosaic Method: Center
Allowed Mosaic Methods:
SortField:
SortValue: null
Mosaic Operator: First
Default Compression Quality: 75
Default Resampling Method: Bilinear
Max Record Count: null
Max Image Height: 17613
Max Image Width: 16933
Max Download Image Count: null
Max Mosaic Image Count: null
Allow Raster Function: true
Allow Copy: true
Allow Analysis: true
Allow Compute TiePoints: false
Supports Statistics: false
Supports Advanced Queries: false
Use StandardizedQueries: true
Raster Type Infos:
Name: Raster Dataset
Description: Supports all ArcGIS Raster Datasets
Help:
Has Raster Attribute Table: false
Edit Fields Info: null
Ownership Based AccessControl For Rasters: null
Child Resources:
Info
Histograms
Statistics
Key Properties
Legend
Raster Function Infos
Supported Operations:
Export Image
Identify
Compute Histograms
Compute Statistics Histograms
Get Samples
Compute Class Statistics
Query Boundary
Compute Pixel Location
Compute Angles
Validate
Project